BEGIN:VCALENDAR
VERSION:2.0
PRODID:-//Hannah&#039;s House - ECPv6.15.20//NONSGML v1.0//EN
CALSCALE:GREGORIAN
METHOD:PUBLISH
X-ORIGINAL-URL:https://hannahshousevt.org
X-WR-CALDESC:Events for Hannah&#039;s House
REFRESH-INTERVAL;VALUE=DURATION:PT1H
X-Robots-Tag:noindex
X-PUBLISHED-TTL:PT1H
BEGIN:VTIMEZONE
TZID:America/New_York
BEGIN:DAYLIGHT
TZOFFSETFROM:-0500
TZOFFSETTO:-0400
TZNAME:EDT
DTSTART:20250309T070000
END:DAYLIGHT
BEGIN:STANDARD
TZOFFSETFROM:-0400
TZOFFSETTO:-0500
TZNAME:EST
DTSTART:20251102T060000
END:STANDARD
BEGIN:DAYLIGHT
TZOFFSETFROM:-0500
TZOFFSETTO:-0400
TZNAME:EDT
DTSTART:20260308T070000
END:DAYLIGHT
BEGIN:STANDARD
TZOFFSETFROM:-0400
TZOFFSETTO:-0500
TZNAME:EST
DTSTART:20261101T060000
END:STANDARD
BEGIN:DAYLIGHT
TZOFFSETFROM:-0500
TZOFFSETTO:-0400
TZNAME:EDT
DTSTART:20270314T070000
END:DAYLIGHT
BEGIN:STANDARD
TZOFFSETFROM:-0400
TZOFFSETTO:-0500
TZNAME:EST
DTSTART:20271107T060000
END:STANDARD
END:VTIMEZONE
BEGIN:VEVENT
DTSTART;TZID=America/New_York:20260505T173000
DTEND;TZID=America/New_York:20260505T183000
DTSTAMP:20260421T101916
CREATED:20260416T204726Z
LAST-MODIFIED:20260416T205345Z
UID:10000685-1778002200-1778005800@hannahshousevt.org
SUMMARY:Parenting Tips: Waterbury Wellness Series
DESCRIPTION:Hannah’s House presents \nParenting Tips Q&A\nPart of our Waterbury Wellness Series\n5:30pm Tuesdays in May 2026 at Crossett Brook Middle School\nMay 5: Parenting Tips + Q&A\nPresenter: Heidi Robbins\, Licensed Psychologist-Master \nMay 12: EFT/Tapping\nPresenter: Nicole Hovell\, Therapist \nMay 19: Movement as Medicine\nPresenter: Sara Headley\, Mint Health \nMay 26: Mindfulness & Meditation\nPresenter: Nicole Grenier\, Chase Mountain Wellness \nComplimentary snacks + a Giveaway! \nQuestions?\nContact Chrissy: chrissy @ hannahhousevt.org \nSign Up Here
URL:https://hannahshousevt.org/event/waterbury-wellness-series/
LOCATION:Crossett Brook Middle School\, 5672 Vermont Rt 100\, Waitsfield\, Vermont
CATEGORIES:Recurring Event
ATTACH;FMTTYPE=image/jpeg:https://hannahshousevt.org/wp-content/uploads/2026/04/Waterbury-Wellness-Series.jpg
ORGANIZER;CN="Hannah's House":MAILTO:chrissy@hannahshousevt.org
END:VEVENT
BEGIN:VEVENT
DTSTART;TZID=America/New_York:20260512T173000
DTEND;TZID=America/New_York:20260512T183000
DTSTAMP:20260421T101916
CREATED:20260416T205519Z
LAST-MODIFIED:20260416T205519Z
UID:10000703-1778607000-1778610600@hannahshousevt.org
SUMMARY:EFT & Tapping: Waterbury Wellness Series
DESCRIPTION:Hannah’s House presents \nParenting Tips Q&A\nPart of our Waterbury Wellness Series\n5:30pm Tuesdays in May 2026 at Crossett Brook Middle School\nMay 5: Parenting Tips + Q&A\nPresenter: Heidi Robbins\, Licensed Psychologist-Master \nMay 12: EFT/Tapping\nPresenter: Nicole Hovell\, Therapist \nMay 19: Movement as Medicine\nPresenter: Sara Headley\, Mint Health \nMay 26: Mindfulness & Meditation\nPresenter: Nicole Grenier\, Chase Mountain Wellness \nComplimentary snacks + a Giveaway! \nQuestions?\nContact Chrissy: chrissy @ hannahhousevt.org \nSign Up Here
URL:https://hannahshousevt.org/event/eft-tapping-waterbury-wellness-series/
LOCATION:Crossett Brook Middle School\, 5672 Vermont Rt 100\, Waitsfield\, Vermont
CATEGORIES:Recurring Event
ATTACH;FMTTYPE=image/jpeg:https://hannahshousevt.org/wp-content/uploads/2026/04/Waterbury-Wellness-Series.jpg
ORGANIZER;CN="Hannah's House":MAILTO:chrissy@hannahshousevt.org
END:VEVENT
BEGIN:VEVENT
DTSTART;TZID=America/New_York:20260519T173000
DTEND;TZID=America/New_York:20260519T183000
DTSTAMP:20260421T101916
CREATED:20260416T205605Z
LAST-MODIFIED:20260416T205605Z
UID:10000704-1779211800-1779215400@hannahshousevt.org
SUMMARY:Movement as Medicine: Waterbury Wellness Series
DESCRIPTION:Hannah’s House presents \nParenting Tips Q&A\nPart of our Waterbury Wellness Series\n5:30pm Tuesdays in May 2026 at Crossett Brook Middle School\nMay 5: Parenting Tips + Q&A\nPresenter: Heidi Robbins\, Licensed Psychologist-Master \nMay 12: EFT/Tapping\nPresenter: Nicole Hovell\, Therapist \nMay 19: Movement as Medicine\nPresenter: Sara Headley\, Mint Health \nMay 26: Mindfulness & Meditation\nPresenter: Nicole Grenier\, Chase Mountain Wellness \nComplimentary snacks + a Giveaway! \nQuestions?\nContact Chrissy: chrissy @ hannahhousevt.org \nSign Up Here
URL:https://hannahshousevt.org/event/movement-as-medicine-waterbury-wellness-series/
LOCATION:Crossett Brook Middle School\, 5672 Vermont Rt 100\, Waitsfield\, Vermont
CATEGORIES:Recurring Event
ATTACH;FMTTYPE=image/jpeg:https://hannahshousevt.org/wp-content/uploads/2026/04/Waterbury-Wellness-Series.jpg
ORGANIZER;CN="Hannah's House":MAILTO:chrissy@hannahshousevt.org
END:VEVENT
BEGIN:VEVENT
DTSTART;TZID=America/New_York:20260526T173000
DTEND;TZID=America/New_York:20260526T183000
DTSTAMP:20260421T101916
CREATED:20260416T205648Z
LAST-MODIFIED:20260416T205648Z
UID:10000705-1779816600-1779820200@hannahshousevt.org
SUMMARY:Mindfulness & Meditation: Waterbury Wellness Series
DESCRIPTION:Hannah’s House presents \nParenting Tips Q&A\nPart of our Waterbury Wellness Series\n5:30pm Tuesdays in May 2026 at Crossett Brook Middle School\nMay 5: Parenting Tips + Q&A\nPresenter: Heidi Robbins\, Licensed Psychologist-Master \nMay 12: EFT/Tapping\nPresenter: Nicole Hovell\, Therapist \nMay 19: Movement as Medicine\nPresenter: Sara Headley\, Mint Health \nMay 26: Mindfulness & Meditation\nPresenter: Nicole Grenier\, Chase Mountain Wellness \nComplimentary snacks + a Giveaway! \nQuestions?\nContact Chrissy: chrissy @ hannahhousevt.org \nSign Up Here
URL:https://hannahshousevt.org/event/mindfulness-meditation-waterbury-wellness-series/
LOCATION:Crossett Brook Middle School\, 5672 Vermont Rt 100\, Waitsfield\, Vermont
CATEGORIES:Recurring Event
ATTACH;FMTTYPE=image/jpeg:https://hannahshousevt.org/wp-content/uploads/2026/04/Waterbury-Wellness-Series.jpg
ORGANIZER;CN="Hannah's House":MAILTO:chrissy@hannahshousevt.org
END:VEVENT
END:VCALENDAR